{
 "currentVersion": 10.2,
 "serviceDescription": "",
 "mapName": "Layers",
 "description": "",
 "copyrightText": "",
 "supportsDynamicLayers": false,
 "layers": [
  {
   "id": 0,
   "name": "Границы",
   "parentLayerId": -1,
   "defaultVisibility": true,
   "subLayerIds": null,
   "minScale": 0,
   "maxScale": 25000
  },
  {
   "id": 1,
   "name": "Границы муниципальных образований_bigscale",
   "parentLayerId": -1,
   "defaultVisibility": true,
   "subLayerIds": null,
   "minScale": 0,
   "maxScale": 25000
  },
  {
   "id": 2,
   "name": "Буфер границ",
   "parentLayerId": -1,
   "defaultVisibility": true,
   "subLayerIds": null,
   "minScale": 0,
   "maxScale": 25000
  },
  {
   "id": 3,
   "name": "Маска на Карелию_Финляндию_TTSTTA_2014",
   "parentLayerId": -1,
   "defaultVisibility": true,
   "subLayerIds": null,
   "minScale": 0,
   "maxScale": 25000
  },
  {
   "id": 4,
   "name": "Населённые пункты (внемасштабный знак)",
   "parentLayerId": -1,
   "defaultVisibility": true,
   "subLayerIds": null,
   "minScale": 200000,
   "maxScale": 25000
  },
  {
   "id": 5,
   "name": "Населённые пункты (внемасштабный знак)",
   "parentLayerId": -1,
   "defaultVisibility": true,
   "subLayerIds": null,
   "minScale": 1000000,
   "maxScale": 200001
  },
  {
   "id": 6,
   "name": "Населённые пункты (внемасштабный знак)_bigscale",
   "parentLayerId": -1,
   "defaultVisibility": true,
   "subLayerIds": null,
   "minScale": 0,
   "maxScale": 1000001
  },
  {
   "id": 7,
   "name": "Аэропорты_TSAIRP_1000",
   "parentLayerId": -1,
   "defaultVisibility": true,
   "subLayerIds": null,
   "minScale": 1000000,
   "maxScale": 25000
  },
  {
   "id": 8,
   "name": "Подписи",
   "parentLayerId": -1,
   "defaultVisibility": true,
   "subLayerIds": [
    9,
    13,
    15,
    18,
    20,
    22,
    25,
    28,
    32,
    35,
    41
   ],
   "minScale": 0,
   "maxScale": 0
  },
  {
   "id": 9,
   "name": "Подписи дорожных сооружений",
   "parentLayerId": 8,
   "defaultVisibility": false,
   "subLayerIds": [
    10,
    11,
    12
   ],
   "minScale": 250000,
   "maxScale": 25000
  },
  {
   "id": 10,
   "name": "Подписи населенных пунктов",
   "parentLayerId": 9,
   "defaultVisibility": true,
   "subLayerIds": null,
   "minScale": 0,
   "maxScale": 0
  },
  {
   "id": 11,
   "name": "Подписи железнодорожных станций",
   "parentLayerId": 9,
   "defaultVisibility": true,
   "subLayerIds": null,
   "minScale": 0,
   "maxScale": 0
  },
  {
   "id": 12,
   "name": "Подписи сооружений при автодорогах",
   "parentLayerId": 9,
   "defaultVisibility": true,
   "subLayerIds": null,
   "minScale": 0,
   "maxScale": 0
  },
  {
   "id": 13,
   "name": "Подписи контрольно-пропускных пунктов",
   "parentLayerId": 8,
   "defaultVisibility": false,
   "subLayerIds": [
    14
   ],
   "minScale": 250000,
   "maxScale": 25000
  },
  {
   "id": 14,
   "name": "подписи пропускных пунктов",
   "parentLayerId": 13,
   "defaultVisibility": true,
   "subLayerIds": null,
   "minScale": 0,
   "maxScale": 0
  },
  {
   "id": 15,
   "name": "Подписи отметок высот",
   "parentLayerId": 8,
   "defaultVisibility": false,
   "subLayerIds": [
    16,
    17
   ],
   "minScale": 250000,
   "maxScale": 25000
  },
  {
   "id": 16,
   "name": "Подписи абсолютных высот",
   "parentLayerId": 15,
   "defaultVisibility": true,
   "subLayerIds": null,
   "minScale": 0,
   "maxScale": 0
  },
  {
   "id": 17,
   "name": "Подписи высотных отметок",
   "parentLayerId": 15,
   "defaultVisibility": true,
   "subLayerIds": null,
   "minScale": 0,
   "maxScale": 0
  },
  {
   "id": 18,
   "name": "DNLT_1000",
   "parentLayerId": 8,
   "defaultVisibility": true,
   "subLayerIds": [
    19
   ],
   "minScale": 500000,
   "maxScale": 200001
  },
  {
   "id": 19,
   "name": "Подписи рек",
   "parentLayerId": 18,
   "defaultVisibility": true,
   "subLayerIds": null,
   "minScale": 0,
   "maxScale": 0
  },
  {
   "id": 20,
   "name": "200_Подписи рек, ручьёв",
   "parentLayerId": 8,
   "defaultVisibility": true,
   "subLayerIds": [
    21
   ],
   "minScale": 200000,
   "maxScale": 25000
  },
  {
   "id": 21,
   "name": "Подписи рек",
   "parentLayerId": 20,
   "defaultVisibility": true,
   "subLayerIds": null,
   "minScale": 0,
   "maxScale": 0
  },
  {
   "id": 22,
   "name": "ПРОВЕРИТЬ_DNAST2500",
   "parentLayerId": 8,
   "defaultVisibility": true,
   "subLayerIds": [
    23,
    24
   ],
   "minScale": 2000000,
   "maxScale": 200001
  },
  {
   "id": 23,
   "name": "Названия морей, заливов, губ",
   "parentLayerId": 22,
   "defaultVisibility": true,
   "subLayerIds": null,
   "minScale": 0,
   "maxScale": 0
  },
  {
   "id": 24,
   "name": "Названия полуостровов, островов, мысов",
   "parentLayerId": 22,
   "defaultVisibility": false,
   "subLayerIds": null,
   "minScale": 0,
   "maxScale": 0
  },
  {
   "id": 25,
   "name": "DNART_3500",
   "parentLayerId": 8,
   "defaultVisibility": true,
   "subLayerIds": [
    26,
    27
   ],
   "minScale": 2000000,
   "maxScale": 1000001
  },
  {
   "id": 26,
   "name": "Названия озер, водохранилищ, крупных рек",
   "parentLayerId": 25,
   "defaultVisibility": true,
   "subLayerIds": null,
   "minScale": 0,
   "maxScale": 0
  },
  {
   "id": 27,
   "name": "Названия островов",
   "parentLayerId": 25,
   "defaultVisibility": true,
   "subLayerIds": null,
   "minScale": 0,
   "maxScale": 0
  },
  {
   "id": 28,
   "name": "Z200000_DNAST",
   "parentLayerId": 8,
   "defaultVisibility": true,
   "subLayerIds": [
    29,
    30,
    31
   ],
   "minScale": 200000,
   "maxScale": 25000
  },
  {
   "id": 29,
   "name": "подписи морей, заливов, проливов",
   "parentLayerId": 28,
   "defaultVisibility": true,
   "subLayerIds": null,
   "minScale": 0,
   "maxScale": 0
  },
  {
   "id": 30,
   "name": "подписи мысов и полуостровов",
   "parentLayerId": 28,
   "defaultVisibility": true,
   "subLayerIds": null,
   "minScale": 0,
   "maxScale": 0
  },
  {
   "id": 31,
   "name": "подписи островов",
   "parentLayerId": 28,
   "defaultVisibility": true,
   "subLayerIds": null,
   "minScale": 0,
   "maxScale": 0
  },
  {
   "id": 32,
   "name": "DNART_1500",
   "parentLayerId": 8,
   "defaultVisibility": true,
   "subLayerIds": [
    33,
    34
   ],
   "minScale": 1000000,
   "maxScale": 500001
  },
  {
   "id": 33,
   "name": "Названия озер, водохранилищ, крупных рек",
   "parentLayerId": 32,
   "defaultVisibility": true,
   "subLayerIds": null,
   "minScale": 0,
   "maxScale": 0
  },
  {
   "id": 34,
   "name": "Названия островов",
   "parentLayerId": 32,
   "defaultVisibility": true,
   "subLayerIds": null,
   "minScale": 0,
   "maxScale": 0
  },
  {
   "id": 35,
   "name": "DNART_1000",
   "parentLayerId": 8,
   "defaultVisibility": true,
   "subLayerIds": [
    36,
    37,
    38,
    39,
    40
   ],
   "minScale": 500000,
   "maxScale": 200001
  },
  {
   "id": 36,
   "name": "Подписи рек",
   "parentLayerId": 35,
   "defaultVisibility": true,
   "subLayerIds": null,
   "minScale": 0,
   "maxScale": 0
  },
  {
   "id": 37,
   "name": "Подписи озер",
   "parentLayerId": 35,
   "defaultVisibility": true,
   "subLayerIds": null,
   "minScale": 0,
   "maxScale": 0
  },
  {
   "id": 38,
   "name": "Подписи водохранилищ",
   "parentLayerId": 35,
   "defaultVisibility": true,
   "subLayerIds": null,
   "minScale": 0,
   "maxScale": 0
  },
  {
   "id": 39,
   "name": "Подписи островов",
   "parentLayerId": 35,
   "defaultVisibility": true,
   "subLayerIds": null,
   "minScale": 0,
   "maxScale": 0
  },
  {
   "id": 40,
   "name": "Подписи мысов и полуостровов",
   "parentLayerId": 35,
   "defaultVisibility": true,
   "subLayerIds": null,
   "minScale": 0,
   "maxScale": 0
  },
  {
   "id": 41,
   "name": "DNART_IASP_200",
   "parentLayerId": 8,
   "defaultVisibility": true,
   "subLayerIds": [
    42,
    43,
    44,
    45,
    46
   ],
   "minScale": 200000,
   "maxScale": 25000
  },
  {
   "id": 42,
   "name": "Подписи рек",
   "parentLayerId": 41,
   "defaultVisibility": true,
   "subLayerIds": null,
   "minScale": 0,
   "maxScale": 0
  },
  {
   "id": 43,
   "name": "Подписи озер",
   "parentLayerId": 41,
   "defaultVisibility": true,
   "subLayerIds": null,
   "minScale": 0,
   "maxScale": 0
  },
  {
   "id": 44,
   "name": "Подписи водохранилищ",
   "parentLayerId": 41,
   "defaultVisibility": true,
   "subLayerIds": null,
   "minScale": 0,
   "maxScale": 0
  },
  {
   "id": 45,
   "name": "Подписи островов",
   "parentLayerId": 41,
   "defaultVisibility": true,
   "subLayerIds": null,
   "minScale": 0,
   "maxScale": 0
  },
  {
   "id": 46,
   "name": "Подписи мысов и полуостровов",
   "parentLayerId": 41,
   "defaultVisibility": true,
   "subLayerIds": null,
   "minScale": 0,
   "maxScale": 0
  },
  {
   "id": 47,
   "name": "Дорожные сооружения",
   "parentLayerId": -1,
   "defaultVisibility": false,
   "subLayerIds": null,
   "minScale": 200000,
   "maxScale": 25000
  },
  {
   "id": 48,
   "name": "Контрольно-пропускные пункты",
   "parentLayerId": -1,
   "defaultVisibility": false,
   "subLayerIds": null,
   "minScale": 1000000,
   "maxScale": 25000
  },
  {
   "id": 49,
   "name": "Отметки высот",
   "parentLayerId": -1,
   "defaultVisibility": false,
   "subLayerIds": null,
   "minScale": 1000000,
   "maxScale": 25000
  },
  {
   "id": 50,
   "name": "Железные дороги_bigscale_1000",
   "parentLayerId": -1,
   "defaultVisibility": true,
   "subLayerIds": null,
   "minScale": 3000000,
   "maxScale": 1000001
  },
  {
   "id": 51,
   "name": "Железные дороги",
   "parentLayerId": -1,
   "defaultVisibility": true,
   "subLayerIds": null,
   "minScale": 1000000,
   "maxScale": 25000
  },
  {
   "id": 52,
   "name": "Мосты",
   "parentLayerId": -1,
   "defaultVisibility": true,
   "subLayerIds": null,
   "minScale": 300000,
   "maxScale": 25000
  },
  {
   "id": 53,
   "name": "Автодорожная сеть",
   "parentLayerId": -1,
   "defaultVisibility": true,
   "subLayerIds": [
    54,
    55,
    56
   ],
   "minScale": 8000000,
   "maxScale": 25000
  },
  {
   "id": 54,
   "name": "Автодороги_bigscale",
   "parentLayerId": 53,
   "defaultVisibility": true,
   "subLayerIds": null,
   "minScale": 3000000,
   "maxScale": 1000001
  },
  {
   "id": 55,
   "name": "А/д_bigacale",
   "parentLayerId": 53,
   "defaultVisibility": true,
   "subLayerIds": null,
   "minScale": 1000000,
   "maxScale": 25000
  },
  {
   "id": 56,
   "name": "А/дороги в н/п",
   "parentLayerId": 53,
   "defaultVisibility": true,
   "subLayerIds": null,
   "minScale": 500000,
   "maxScale": 25000
  },
  {
   "id": 57,
   "name": "Реки_DNL_1000",
   "parentLayerId": -1,
   "defaultVisibility": true,
   "subLayerIds": null,
   "minScale": 2000000,
   "maxScale": 1000001
  },
  {
   "id": 58,
   "name": "Реки_DNL_500",
   "parentLayerId": -1,
   "defaultVisibility": true,
   "subLayerIds": null,
   "minScale": 1000000,
   "maxScale": 200001
  },
  {
   "id": 59,
   "name": "Реки_DNL_200",
   "parentLayerId": -1,
   "defaultVisibility": true,
   "subLayerIds": null,
   "minScale": 200000,
   "maxScale": 25000
  },
  {
   "id": 60,
   "name": "Контур нп_PPA_2015_WGS",
   "parentLayerId": -1,
   "defaultVisibility": true,
   "subLayerIds": null,
   "minScale": 1000000,
   "maxScale": 25000
  },
  {
   "id": 61,
   "name": "Контур_озёра_1000",
   "parentLayerId": -1,
   "defaultVisibility": true,
   "subLayerIds": null,
   "minScale": 2000000,
   "maxScale": 1000001
  },
  {
   "id": 62,
   "name": "Озёра_1000",
   "parentLayerId": -1,
   "defaultVisibility": true,
   "subLayerIds": null,
   "minScale": 0,
   "maxScale": 1000001
  },
  {
   "id": 63,
   "name": "Контур_озёра_500",
   "parentLayerId": -1,
   "defaultVisibility": true,
   "subLayerIds": null,
   "minScale": 1000000,
   "maxScale": 200001
  },
  {
   "id": 64,
   "name": "Озёра__500",
   "parentLayerId": -1,
   "defaultVisibility": true,
   "subLayerIds": null,
   "minScale": 1000000,
   "maxScale": 200001
  },
  {
   "id": 65,
   "name": "Озера, реки, водохранилища, каналы (площадные)",
   "parentLayerId": -1,
   "defaultVisibility": true,
   "subLayerIds": null,
   "minScale": 200000,
   "maxScale": 25000
  },
  {
   "id": 66,
   "name": "Населённые пункты_PPA_2015_WGS",
   "parentLayerId": -1,
   "defaultVisibility": true,
   "subLayerIds": null,
   "minScale": 1000000,
   "maxScale": 25000
  },
  {
   "id": 67,
   "name": "Контур морей__DNASL",
   "parentLayerId": -1,
   "defaultVisibility": true,
   "subLayerIds": null,
   "minScale": 8000000,
   "maxScale": 25000
  },
  {
   "id": 68,
   "name": "Океаны, моря",
   "parentLayerId": -1,
   "defaultVisibility": true,
   "subLayerIds": null,
   "minScale": 1000000,
   "maxScale": 25000
  },
  {
   "id": 69,
   "name": "Растительный покров до 300 000",
   "parentLayerId": -1,
   "defaultVisibility": true,
   "subLayerIds": null,
   "minScale": 1000000,
   "maxScale": 25000
  },
  {
   "id": 70,
   "name": "Отмывка береговой линии",
   "parentLayerId": -1,
   "defaultVisibility": true,
   "subLayerIds": null,
   "minScale": 0,
   "maxScale": 1000001
  },
  {
   "id": 71,
   "name": "Муниципальные образования",
   "parentLayerId": -1,
   "defaultVisibility": true,
   "subLayerIds": null,
   "minScale": 0,
   "maxScale": 1000001
  }
 ],
 "tables": [],
 "spatialReference": {
  "wkid": 102100,
  "latestWkid": 3857
 },
 "singleFusedMapCache": true,
 "tileInfo": {
  "rows": 256,
  "cols": 256,
  "dpi": 96,
  "format": "PNG",
  "compressionQuality": 0,
  "origin": {
   "x": -2.0037508342787E7,
   "y": 2.0037508342787E7
  },
  "spatialReference": {
   "wkid": 102100,
   "latestWkid": 3857
  },
  "lods": [
   {
    "level": 0,
    "resolution": 156543.03392800014,
    "scale": 5.91657527591555E8
   },
   {
    "level": 1,
    "resolution": 78271.51696399994,
    "scale": 2.95828763795777E8
   },
   {
    "level": 2,
    "resolution": 39135.75848200009,
    "scale": 1.47914381897889E8
   },
   {
    "level": 3,
    "resolution": 19567.87924099992,
    "scale": 7.3957190948944E7
   },
   {
    "level": 4,
    "resolution": 9783.93962049996,
    "scale": 3.6978595474472E7
   },
   {
    "level": 5,
    "resolution": 4891.96981024998,
    "scale": 1.8489297737236E7
   },
   {
    "level": 6,
    "resolution": 2445.98490512499,
    "scale": 9244648.868618
   },
   {
    "level": 7,
    "resolution": 1222.992452562495,
    "scale": 4622324.434309
   },
   {
    "level": 8,
    "resolution": 611.4962262813797,
    "scale": 2311162.217155
   },
   {
    "level": 9,
    "resolution": 305.74811314055756,
    "scale": 1155581.108577
   },
   {
    "level": 10,
    "resolution": 152.87405657041106,
    "scale": 577790.554289
   },
   {
    "level": 11,
    "resolution": 76.43702828507324,
    "scale": 288895.277144
   },
   {
    "level": 12,
    "resolution": 38.21851414253662,
    "scale": 144447.638572
   },
   {
    "level": 13,
    "resolution": 19.10925707126831,
    "scale": 72223.819286
   },
   {
    "level": 14,
    "resolution": 9.554628535634155,
    "scale": 36111.909643
   },
   {
    "level": 15,
    "resolution": 4.77731426794937,
    "scale": 18055.954822
   },
   {
    "level": 16,
    "resolution": 2.388657133974685,
    "scale": 9027.977411
   },
   {
    "level": 17,
    "resolution": 1.1943285668550503,
    "scale": 4513.988705
   },
   {
    "level": 18,
    "resolution": 0.5971642835598172,
    "scale": 2256.994353
   },
   {
    "level": 19,
    "resolution": 0.29858214164761665,
    "scale": 1128.497176
   }
  ]
 },
 "initialExtent": {
  "xmin": 2467682.798551528,
  "ymin": 1.0204931005045831E7,
  "xmax": 5289516.208732487,
  "ymax": 1.1372510954347312E7,
  "spatialReference": {
   "cs": "pcs",
   "wkid": 102100
  }
 },
 "fullExtent": {
  "xmin": 3005239.1396702677,
  "ymin": 9624712.21800553,
  "xmax": 4751959.867613747,
  "ymax": 1.1289282443092942E7,
  "spatialReference": {
   "cs": "pcs",
   "wkid": 102100
  }
 },
 "minScale": 1.8489297737236E7,
 "maxScale": 18055.954822,
 "units": "esriMeters",
 "supportedImageFormatTypes": "PNG32,PNG24,PNG,JPG,DIB,TIFF,EMF,PS,PDF,GIF,SVG,SVGZ,BMP",
 "documentInfo": {
  "Title": "",
  "Author": "",
  "Comments": "",
  "Subject": "",
  "Category": "",
  "AntialiasingMode": "None",
  "TextAntialiasingMode": "Force",
  "Keywords": ""
 },
 "capabilities": "Map,Query,Data",
 "supportedQueryFormats": "JSON, AMF",
 "exportTilesAllowed": false,
 "maxRecordCount": 1000,
 "maxImageHeight": 4096,
 "maxImageWidth": 4096,
 "supportedExtensions": "KmlServer"
}
